BEGIN:VCALENDAR
VERSION:2.0
PRODID:-//The Improvement Association - ECPv6.15.20//NONSGML v1.0//EN
CALSCALE:GREGORIAN
METHOD:PUBLISH
X-WR-CALNAME:The Improvement Association
X-ORIGINAL-URL:https://impassoc.org
X-WR-CALDESC:Events for The Improvement Association
REFRESH-INTERVAL;VALUE=DURATION:PT1H
X-Robots-Tag:noindex
X-PUBLISHED-TTL:PT1H
BEGIN:VTIMEZONE
TZID:UTC
BEGIN:STANDARD
TZOFFSETFROM:+0000
TZOFFSETTO:+0000
TZNAME:UTC
DTSTART:20290101T000000
END:STANDARD
END:VTIMEZONE
BEGIN:VEVENT
DTSTART;TZID=UTC:20300718T080000
DTEND;TZID=UTC:20300718T170000
DTSTAMP:20260423T130338
CREATED:20170425T101855Z
LAST-MODIFIED:20250920T003903Z
UID:782-1910592000-1910624400@impassoc.org
SUMMARY:Parent Orientation (Sx/S/Din.)
DESCRIPTION:Parent Orientation (Sx/S/Din.)
URL:https://impassoc.org/event/history-of-tibet/
LOCATION:Envato HQ\, 121 King Street\, Melbourne\, Victoria\, 3000\, Australia
CATEGORIES:Category Event
ATTACH;FMTTYPE=image/png:https://impassoc.org/wp-content/uploads/2025/06/headstart-ball-2.png
ORGANIZER;CN="Organizer Name":MAILTO:Email
END:VEVENT
END:VCALENDAR